BEGIN:VCALENDAR
VERSION:2.0
PRODID:-//https://moyockbaptist.org//NONSGML kigkonsult.se iCalcreator 2.41.71//
CALSCALE:GREGORIAN
METHOD:PUBLISH
UID:35643566-3366-4261-a636-326132306162
X-WR-CALNAME:JCal Pro Calendar
X-WR-CALDESC:Your online events calendar
X-WR-TIMEZONE:America/New_York
BEGIN:VTIMEZONE
TZID:America/New_York
TZUNTIL:20271107T060000Z
BEGIN:STANDARD
TZNAME:EST
DTSTART:20251102T020000
TZOFFSETFROM:-0400
TZOFFSETTO:-0500
RDATE:20261101T020000
END:STANDARD
BEGIN:DAYLIGHT
TZNAME:EDT
DTSTART:20260308T020000
TZOFFSETFROM:-0500
TZOFFSETTO:-0400
RDATE:20270314T020000
END:DAYLIGHT
END:VTIMEZONE
BEGIN:VEVENT
UID:20260403T190000UTC-83670kS0d0@https://www.moyockbaptist.org/
DTSTAMP:20260422T082626Z
CATEGORIES:Church Events
DESCRIPTION:<p>We will rehearse the final week of Jesus' earthly life\, and
  celebrate the Lord's Supper as we reflect on the meaning and impact of Je
 sus' death on the cross.</p>
DTSTART;TZID=America/New_York:20260403T190000
DTEND;TZID=America/New_York:20260403T200000
SUMMARY:Good Friday Communion Service
URL:https://moyockbaptist.org/index.php/church-calendar/40-church-events/43
 89-good-friday-communion-service
X-ALT-DESC;FMTTYPE=TEXT/HTML:<p>We will rehearse the final week of Jesus' e
 arthly life\, and celebrate the Lord's Supper as we reflect on the meaning
  and impact of Jesus' death on the cross.</p>
END:VEVENT
END:VCALENDAR
