BEGIN:VCALENDAR
VERSION:2.0
PRODID:-//https://moyockbaptist.org//NONSGML kigkonsult.se iCalcreator 2.41.71//
CALSCALE:GREGORIAN
METHOD:PUBLISH
UID:39323762-6562-4638-b039-326637363062
X-WR-CALNAME:JCal Pro Calendar
X-WR-CALDESC:Your online events calendar
X-WR-TIMEZONE:America/New_York
BEGIN:VTIMEZONE
TZID:America/New_York
TZUNTIL:20271107T060000Z
BEGIN:STANDARD
TZNAME:EST
DTSTART:20251102T020000
TZOFFSETFROM:-0400
TZOFFSETTO:-0500
RDATE:20261101T020000
END:STANDARD
BEGIN:DAYLIGHT
TZNAME:EDT
DTSTART:20260308T020000
TZOFFSETFROM:-0500
TZOFFSETTO:-0400
RDATE:20270314T020000
END:DAYLIGHT
END:VTIMEZONE
BEGIN:VEVENT
UID:20260404T100000UTC-9689sS21Jc@https://www.moyockbaptist.org/
DTSTAMP:20260422T083911Z
CATEGORIES:Church Events
DESCRIPTION:<p>The annual Easter Egg Hunt will begin with a brief program i
 n the fellowship hall\, featuring a reading of the Easter story and a song
  from our puppet team\, folled by the Easter Egg Hunt proper on the Jo Wes
 t and Bob Lee properties.</p>
DTSTART;TZID=America/New_York:20260404T100000
DTEND;TZID=America/New_York:20260404T110000
SUMMARY:Easter Egg Hunt
URL:https://moyockbaptist.org/index.php/church-calendar/40-church-events/43
 90-easter-egg-hunt
X-ALT-DESC;FMTTYPE=TEXT/HTML:<p>The annual Easter Egg Hunt will begin with 
 a brief program in the fellowship hall\, featuring a reading of the Easter
  story and a song from our puppet team\, folled by the Easter Egg Hunt pro
 per on the Jo West and Bob Lee properties.</p>
END:VEVENT
END:VCALENDAR
