BEGIN:VCALENDAR
VERSION:2.0
PRODID:-//https://moyockbaptist.org//NONSGML kigkonsult.se iCalcreator 2.41.71//
CALSCALE:GREGORIAN
METHOD:PUBLISH
UID:38663265-3531-4539-a239-623662383663
X-WR-CALNAME:JCal Pro Calendar
X-WR-CALDESC:Your online events calendar
X-WR-TIMEZONE:America/New_York
BEGIN:VTIMEZONE
TZID:America/New_York
TZUNTIL:20271107T060000Z
BEGIN:STANDARD
TZNAME:EST
DTSTART:20251102T020000
TZOFFSETFROM:-0400
TZOFFSETTO:-0500
RDATE:20261101T020000
END:STANDARD
BEGIN:DAYLIGHT
TZNAME:EDT
DTSTART:20260308T020000
TZOFFSETFROM:-0500
TZOFFSETTO:-0400
RDATE:20270314T020000
END:DAYLIGHT
END:VTIMEZONE
BEGIN:VEVENT
UID:20260405T063000UTC-7816fOCC9S@https://www.moyockbaptist.org/
DTSTAMP:20260422T082626Z
CATEGORIES:Church Events
DESCRIPTION:<p>The Easter Sunrise service will be hosted at the home of Dav
 id and Kim Hart\, located at 147 Sanderson Ct\, Moyock</p>\n<p>The service
  begins at 6:30 am lasts about 45 minutes and concludes with breakfast ref
 eshments and fellowship.</p>
DTSTART;TZID=America/New_York:20260405T063000
DTEND;TZID=America/New_York:20260405T073000
SUMMARY:Easter Sunrise Service
URL:https://moyockbaptist.org/index.php/church-calendar/40-church-events/43
 91-easter-sunrise-service
X-ALT-DESC;FMTTYPE=TEXT/HTML:<p>The Easter Sunrise service will be hosted a
 t the home of David and Kim Hart\, located at 147 Sanderson Ct\, Moyock</p
 >\n<p>The service begins at 6:30 am lasts about 45 minutes and concludes w
 ith breakfast refeshments and fellowship.</p>
END:VEVENT
END:VCALENDAR
