BEGIN:VCALENDAR
VERSION:2.0
PRODID:-//https://moyockbaptist.org//NONSGML kigkonsult.se iCalcreator 2.41.71//
CALSCALE:GREGORIAN
METHOD:PUBLISH
UID:30376563-3166-4536-b431-666532393564
X-WR-CALNAME:JCal Pro Calendar
X-WR-CALDESC:Your online events calendar
X-WR-TIMEZONE:America/New_York
BEGIN:VTIMEZONE
TZID:America/New_York
TZUNTIL:20271107T060000Z
BEGIN:STANDARD
TZNAME:EST
DTSTART:20251102T020000
TZOFFSETFROM:-0400
TZOFFSETTO:-0500
RDATE:20261101T020000
END:STANDARD
BEGIN:DAYLIGHT
TZNAME:EDT
DTSTART:20260308T020000
TZOFFSETFROM:-0500
TZOFFSETTO:-0400
RDATE:20270314T020000
END:DAYLIGHT
END:VTIMEZONE
BEGIN:VEVENT
UID:20250622T183000UTC-7126Dfv57J@https://www.moyockbaptist.org/
DTSTAMP:20260422T083013Z
CATEGORIES:Church Events
DTSTART;TZID=America/New_York:20250622T183000
DTEND;TZID=America/New_York:20250626T193000
SUMMARY:Vacation Bible School Youth
URL:https://moyockbaptist.org/index.php/church-calendar/40-church-events/38
 66-vacation-bible-school-youth
END:VEVENT
BEGIN:VEVENT
UID:20250623T090000UTC-9167lJuv5E@https://www.moyockbaptist.org/
DTSTAMP:20260422T083013Z
CATEGORIES:Church Events
DTSTART;TZID=America/New_York:20250623T090000
DTEND;TZID=America/New_York:20250627T100000
SUMMARY:Vacation Bible School Preschool and Children
URL:https://moyockbaptist.org/index.php/church-calendar/40-church-events/38
 67-vacation-bible-school-preschool-and-children
END:VEVENT
BEGIN:VEVENT
UID:20210908T193000EDT-3793x0Ub0V@http://www.moyockbaptist.org/
DTSTAMP:20260422T083013Z
CATEGORIES:Church Events
DESCRIPTION:<p>For adult\, high school\, and middle school singers.</p>
DTSTART;TZID=America/New_York:20240103T193000
DTEND;TZID=America/New_York:20240103T203000
RRULE:FREQ=WEEKLY;UNTIL=20250625T040000Z;INTERVAL=1;BYDAY=WE
SUMMARY:Adult Choir
URL:https://moyockbaptist.org/index.php/church-calendar/40-church-events/73
 2-adult-choir
X-ALT-DESC;FMTTYPE=TEXT/HTML:<p>For adult\, high school\, and middle school
  singers.</p>
END:VEVENT
END:VCALENDAR
