BEGIN:VCALENDAR
VERSION:2.0
PRODID:-//https://moyockbaptist.org//NONSGML kigkonsult.se iCalcreator 2.41.71//
CALSCALE:GREGORIAN
METHOD:PUBLISH
UID:31373334-3031-4838-b133-366439363431
X-WR-CALNAME:JCal Pro Calendar
X-WR-CALDESC:Your online events calendar
X-WR-TIMEZONE:America/New_York
BEGIN:VTIMEZONE
TZID:America/New_York
TZUNTIL:20271107T060000Z
BEGIN:STANDARD
TZNAME:EST
DTSTART:20251102T020000
TZOFFSETFROM:-0400
TZOFFSETTO:-0500
RDATE:20261101T020000
END:STANDARD
BEGIN:DAYLIGHT
TZNAME:EDT
DTSTART:20260308T020000
TZOFFSETFROM:-0500
TZOFFSETTO:-0400
RDATE:20270314T020000
END:DAYLIGHT
END:VTIMEZONE
BEGIN:VEVENT
UID:20210829T110000EDT-2916jVuKfv@http://joomla/
DTSTAMP:20260422T083014Z
CATEGORIES:Church Events
DTSTART;TZID=America/New_York:20210829T110000
DTEND;TZID=America/New_York:20210829T120000
RRULE:FREQ=WEEKLY;UNTIL=20231231T050000Z;INTERVAL=1;BYDAY=SU
SUMMARY:Worship
URL:https://moyockbaptist.org/index.php/church-calendar/40-church-events/1-
 worship
END:VEVENT
BEGIN:VEVENT
UID:20210831T183000EDT-4188Esr9uR@http://joomla/
DTSTAMP:20260422T083014Z
CATEGORIES:MBC Preschool
DESCRIPTION:<p>For the following classes:</p>\n<ul>\n<li>2-year-olds</li>\n
 <li>3A</li>\n<li>4A</li>\n</ul>
DTSTART;TZID=America/New_York:20210831T183000
DTEND;TZID=America/New_York:20210831T193000
RRULE:FREQ=DAILY;COUNT=2;INTERVAL=1
SUMMARY:Preschool Open House
URL:https://moyockbaptist.org/index.php/church-calendar/42-mbc-preschool/35
 0-preschool-open-house
X-ALT-DESC;FMTTYPE=TEXT/HTML:<p>For the following classes:</p>\n<ul>\n<li>2
 -year-olds</li>\n<li>3A</li>\n<li>4A</li>\n</ul>
END:VEVENT
BEGIN:VEVENT
UID:20210831T090000EDT-1001SNmWIO@http://localhost/joomla/
DTSTAMP:20260422T083014Z
CATEGORIES:MBC Preschool
DTSTART;TZID=America/New_York:20210901T090000
DTEND;TZID=America/New_York:20210901T120000
RRULE:FREQ=DAILY;COUNT=2;INTERVAL=1
SUMMARY:Preschool Meet & Greet
URL:https://moyockbaptist.org/index.php/church-calendar/42-mbc-preschool/49
 4-preschool-meet-greet
END:VEVENT
END:VCALENDAR
