BEGIN:VCALENDAR
VERSION:2.0
PRODID:-//https://moyockbaptist.org//NONSGML kigkonsult.se iCalcreator 2.41.71//
CALSCALE:GREGORIAN
METHOD:PUBLISH
UID:62653865-3065-4665-a633-303531366237
X-WR-CALNAME:JCal Pro Calendar
X-WR-CALDESC:Your online events calendar
X-WR-TIMEZONE:America/New_York
BEGIN:VTIMEZONE
TZID:America/New_York
TZUNTIL:20271107T060000Z
BEGIN:STANDARD
TZNAME:EST
DTSTART:20251102T020000
TZOFFSETFROM:-0400
TZOFFSETTO:-0500
RDATE:20261101T020000
END:STANDARD
BEGIN:DAYLIGHT
TZNAME:EDT
DTSTART:20260308T020000
TZOFFSETFROM:-0500
TZOFFSETTO:-0400
RDATE:20270314T020000
END:DAYLIGHT
END:VTIMEZONE
BEGIN:VEVENT
UID:20210829T094500EDT-1472KIF6SD@http://joomla/
DTSTAMP:20260422T083013Z
CATEGORIES:Church Events
DTSTART;TZID=America/New_York:20240107T094500
DTEND;TZID=America/New_York:20240107T104500
RRULE:FREQ=WEEKLY;UNTIL=20250928T040000Z;INTERVAL=1;BYDAY=SU
SUMMARY:Sunday School
URL:https://moyockbaptist.org/index.php/church-calendar/40-church-events/14
 1-sunday-school
END:VEVENT
BEGIN:VEVENT
UID:20231231T110000EST-4456Fuv3Uv@https://www.moyockbaptist.org/
DTSTAMP:20260422T083013Z
CATEGORIES:Church Events
DTSTART;TZID=America/New_York:20240107T110000
DTEND;TZID=America/New_York:20240107T120000
RRULE:FREQ=WEEKLY;UNTIL=20250928T040000Z;INTERVAL=1;BYDAY=SU
SUMMARY:Worship
URL:https://moyockbaptist.org/index.php/church-calendar/40-church-events/24
 93-worship
END:VEVENT
BEGIN:VEVENT
UID:20240107T180000EST-1418fF5Xfu@https://www.moyockbaptist.org/
DTSTAMP:20260422T083013Z
CATEGORIES:Church Events
DTSTART;TZID=America/New_York:20240107T180000
DTEND;TZID=America/New_York:20240107T200000
RRULE:FREQ=WEEKLY;UNTIL=20250928T040000Z;INTERVAL=1;BYDAY=SU
SUMMARY:Youth Fellowship
URL:https://moyockbaptist.org/index.php/church-calendar/40-church-events/25
 24-youth-fellowship
END:VEVENT
BEGIN:VEVENT
UID:20210831T200000EDT-9166CzM6Ou@http://joomla/
DTSTAMP:20260422T083013Z
CATEGORIES:Community Events
DTSTART;TZID=America/New_York:20240130T200000
DTEND;TZID=America/New_York:20240130T210000
RRULE:FREQ=WEEKLY;UNTIL=20250930T040000Z;INTERVAL=1;BYDAY=TU
SUMMARY:AA Meeting
URL:https://moyockbaptist.org/index.php/church-calendar/41-community-events
 /211-aa-meeting
END:VEVENT
BEGIN:VEVENT
UID:20240605T164500UTC-8415o4uV4A@https://www.moyockbaptist.org/
DTSTAMP:20260422T083013Z
CATEGORIES:Church Events
DTSTART;TZID=America/New_York:20240605T164500
DTEND;TZID=America/New_York:20240605T174500
RRULE:FREQ=WEEKLY;UNTIL=20250625T040000Z;INTERVAL=1;BYDAY=WE
SUMMARY:Puppet Team
URL:https://moyockbaptist.org/index.php/church-calendar/40-church-events/32
 56-puppet-team
END:VEVENT
BEGIN:VEVENT
UID:20210908T183000EDT-4764425clP@http://www.moyockbaptist.org/
DTSTAMP:20260422T083013Z
CATEGORIES:Church Events
DESCRIPTION:<p>Girls in Action (GA's) for girls in grades 1-5.</p>\n<p>Roya
 l Ambassadors (RA's) for boys in grades 1-5.</p>\n<p>Youth on Mission for 
 all students in grades 6-12.</p>\n<p>Adult Bible Study led by the pastor.<
 /p>
DTSTART;TZID=America/New_York:20240904T183000
DTEND;TZID=America/New_York:20240904T193000
RRULE:FREQ=WEEKLY;UNTIL=20250528T040000Z;INTERVAL=1;BYDAY=WE
SUMMARY:Mission Groups
URL:https://moyockbaptist.org/index.php/church-calendar/40-church-events/69
 4-missons-groups
X-ALT-DESC;FMTTYPE=TEXT/HTML:<p>Girls in Action (GA's) for girls in grades 
 1-5.</p>\n<p>Royal Ambassadors (RA's) for boys in grades 1-5.</p>\n<p>Yout
 h on Mission for all students in grades 6-12.</p>\n<p>Adult Bible Study le
 d by the pastor.</p>
END:VEVENT
BEGIN:VEVENT
UID:20210908T193000EDT-3793x0Ub0V@http://www.moyockbaptist.org/
DTSTAMP:20260422T083013Z
CATEGORIES:Church Events
DESCRIPTION:<p>For adult\, high school\, and middle school singers.</p>
DTSTART;TZID=America/New_York:20240103T193000
DTEND;TZID=America/New_York:20240103T203000
RRULE:FREQ=WEEKLY;UNTIL=20250625T040000Z;INTERVAL=1;BYDAY=WE
SUMMARY:Adult Choir
URL:https://moyockbaptist.org/index.php/church-calendar/40-church-events/73
 2-adult-choir
X-ALT-DESC;FMTTYPE=TEXT/HTML:<p>For adult\, high school\, and middle school
  singers.</p>
END:VEVENT
END:VCALENDAR
