BEGIN:VCALENDAR
VERSION:2.0
PRODID:-//https://moyockbaptist.org//NONSGML kigkonsult.se iCalcreator 2.41.71//
CALSCALE:GREGORIAN
METHOD:PUBLISH
UID:31343265-3835-4733-b062-346334393433
X-WR-CALNAME:JCal Pro Calendar
X-WR-CALDESC:Your online events calendar
X-WR-TIMEZONE:America/New_York
BEGIN:VTIMEZONE
TZID:America/New_York
TZUNTIL:20271107T060000Z
BEGIN:STANDARD
TZNAME:EST
DTSTART:20251102T020000
TZOFFSETFROM:-0400
TZOFFSETTO:-0500
RDATE:20261101T020000
END:STANDARD
BEGIN:DAYLIGHT
TZNAME:EDT
DTSTART:20260308T020000
TZOFFSETFROM:-0500
TZOFFSETTO:-0400
RDATE:20270314T020000
END:DAYLIGHT
END:VTIMEZONE
BEGIN:VEVENT
UID:20210829T110000EDT-2916jVuKfv@http://joomla/
DTSTAMP:20260422T082953Z
CATEGORIES:Church Events
DTSTART;TZID=America/New_York:20210829T110000
DTEND;TZID=America/New_York:20210829T120000
RRULE:FREQ=WEEKLY;UNTIL=20231231T050000Z;INTERVAL=1;BYDAY=SU
SUMMARY:Worship
URL:https://moyockbaptist.org/index.php/church-calendar/40-church-events/1-
 worship
END:VEVENT
BEGIN:VEVENT
UID:20220807T180000EDT-7209Dk6ilU@https://www.moyockbaptist.org/
DTSTAMP:20260422T082953Z
CATEGORIES:Church Events
DTSTART;TZID=America/New_York:20220807T180000
DTEND;TZID=America/New_York:20220807T190000
RRULE:FREQ=WEEKLY;UNTIL=20231203T050000Z;INTERVAL=1;BYDAY=SU
SUMMARY:Youth Fellowship
URL:https://moyockbaptist.org/index.php/church-calendar/40-church-events/12
 15-youth-fellowship
END:VEVENT
BEGIN:VEVENT
UID:20210906T120000EDT-2348ASorC7@http://localhost/joomla/
DTSTAMP:20260422T082953Z
CATEGORIES:Holidays
DTSTART;TZID=America/New_York:20210906T000000
DTEND;TZID=America/New_York:20210906T235959
RRULE:FREQ=YEARLY;COUNT=2;INTERVAL=1;BYDAY=MO;BYSETPOS=1
SUMMARY:Labor Day
URL:https://moyockbaptist.org/index.php/church-calendar/43-holidays/567-lab
 or-day
END:VEVENT
BEGIN:VEVENT
UID:20211004T183000EDT-1134oKWxpE@http://www.moyockbaptist.org/
DTSTAMP:20260422T082953Z
CATEGORIES:Church Events
DTSTART;TZID=America/New_York:20211004T190000
DTEND;TZID=America/New_York:20211004T203000
RRULE:FREQ=MONTHLY;UNTIL=20221231T050000Z;INTERVAL=1;BYDAY=MO;BYSETPOS=1
SUMMARY:Deacons
URL:https://moyockbaptist.org/index.php/church-calendar/40-church-events/77
 9-deacons
END:VEVENT
BEGIN:VEVENT
UID:20220906T090000EDT-6890thVK9j@https://www.moyockbaptist.org/
DTSTAMP:20260422T082953Z
CATEGORIES:MBC Preschool
DTSTART;TZID=America/New_York:20220906T090000
DTEND;TZID=America/New_York:20220906T100000
SUMMARY:Preschool Begins
URL:https://moyockbaptist.org/index.php/church-calendar/42-mbc-preschool/11
 82-preschool-begins
END:VEVENT
BEGIN:VEVENT
UID:20220907T164500EDT-9706MfjIRl@https://www.moyockbaptist.org/
DTSTAMP:20260422T082953Z
CATEGORIES:Church Events
DTSTART;TZID=America/New_York:20220907T164500
DTEND;TZID=America/New_York:20220907T174500
RRULE:FREQ=WEEKLY;UNTIL=20221221T050000Z;INTERVAL=1;BYDAY=WE
SUMMARY:Wednesday Night Activities
URL:https://moyockbaptist.org/index.php/church-calendar/40-church-events/11
 99-wednesday-night-activities
END:VEVENT
BEGIN:VEVENT
UID:20220316T053000EDT-23945PpkAu@https://www.moyockbaptist.org/
DTSTAMP:20260422T082953Z
CATEGORIES:Church Events
DTSTART;TZID=America/New_York:20220316T173000
DTEND;TZID=America/New_York:20220316T183000
RRULE:FREQ=WEEKLY;UNTIL=20230531T040000Z;INTERVAL=1;BYDAY=WE
SUMMARY:Wednesday Night Supper
URL:https://moyockbaptist.org/index.php/church-calendar/40-church-events/10
 78-wednesday-night-supper
END:VEVENT
END:VCALENDAR
